BEGIN:VCALENDAR
VERSION:2.0
PRODID:-//Kultur Mittelkärnten - ECPv6.0.13.1//NONSGML v1.0//EN
CALSCALE:GREGORIAN
METHOD:PUBLISH
X-ORIGINAL-URL:https://kultur-mittelkaernten.at
X-WR-CALDESC:Veranstaltungen für Kultur Mittelkärnten
REFRESH-INTERVAL;VALUE=DURATION:PT1H
X-Robots-Tag:noindex
X-PUBLISHED-TTL:PT1H
BEGIN:VTIMEZONE
TZID:Europe/Berlin
BEGIN:DAYLIGHT
TZOFFSETFROM:+0100
TZOFFSETTO:+0200
TZNAME:CEST
DTSTART:20230326T010000
END:DAYLIGHT
BEGIN:STANDARD
TZOFFSETFROM:+0200
TZOFFSETTO:+0100
TZNAME:CET
DTSTART:20231029T010000
END:STANDARD
END:VTIMEZONE
BEGIN:VEVENT
DTSTART;TZID=Europe/Berlin:20231230T193000
DTEND;TZID=Europe/Berlin:20231230T213000
DTSTAMP:20260422T001052
CREATED:20231224T151002Z
LAST-MODIFIED:20231224T151002Z
UID:10000197-1703964600-1703971800@kultur-mittelkaernten.at
SUMMARY:Seitensprung für zwei - Friesacher Theaterherbst 2023
DESCRIPTION:Seitensprung für zweiKomödie von Lars Albaum und Dietmar Jacobs Regie: Christian Krall \nAm Morgen ihres 24. Hochzeitstages ist für Lea und Paul die Welt noch in Ordnung. Niemals wären die beiden darauf gekommen\, dass in ihrer Ehe etwas fehlt. Pauls bester Freund Udo\, ein etwas in die Jahre gekommener Möchtegern-Playboy und Leas geschiedene beste Freundin Monika – beide Singles aus Leidenschaft – sind sich jedoch sicher\, dass diese Ehe rasant dem Ende zugeht. Sie schwärmen von den Reizen eines Seitensprunges – natürlich als Rettungsmaßnahme.  \nDie Singles bieten dem Paar selbstverständlich tatkräftige Hilfe an\, womit ein beispielloses Chaos beginnt … \nTicketpreise:\n25\,00 € (Sitzplatz Kategorie 1) / 22\,00 € (Sitzplatz Kategorie 2) / 20\,00 € (Sitzplatz Kategorie 3) \nKartenbestellung für Sa\, 30.12.2023\, 19:30\nKartenbestellung für So\, 31.12.2023\, 19:30
URL:https://kultur-mittelkaernten.at/event/seitensprung-fr-zwei-friesacher-theaterherbst-2023/2023-12-30/
ATTACH;FMTTYPE=image/jpeg:https://kultur-mittelkaernten.at/wp-content/uploads/2023/09/Seitensprung222.jpg
END:VEVENT
END:VCALENDAR