BEGIN:VCALENDAR
VERSION:2.0
PRODID:-//Kultur Mittelkärnten - ECPv6.0.13.1//NONSGML v1.0//EN
CALSCALE:GREGORIAN
METHOD:PUBLISH
X-ORIGINAL-URL:https://kultur-mittelkaernten.at
X-WR-CALDESC:Veranstaltungen für Kultur Mittelkärnten
REFRESH-INTERVAL;VALUE=DURATION:PT1H
X-Robots-Tag:noindex
X-PUBLISHED-TTL:PT1H
BEGIN:VTIMEZONE
TZID:Europe/Berlin
BEGIN:DAYLIGHT
TZOFFSETFROM:+0100
TZOFFSETTO:+0200
TZNAME:CEST
DTSTART:20240331T010000
END:DAYLIGHT
BEGIN:STANDARD
TZOFFSETFROM:+0200
TZOFFSETTO:+0100
TZNAME:CET
DTSTART:20241027T010000
END:STANDARD
END:VTIMEZONE
BEGIN:VEVENT
DTSTART;TZID=Europe/Berlin:20240818T150000
DTEND;TZID=Europe/Berlin:20240818T170000
DTSTAMP:20260421T162708
CREATED:20240819T011503Z
LAST-MODIFIED:20240819T011503Z
UID:10000210-1723993200-1724000400@kultur-mittelkaernten.at
SUMMARY:Die Biene Maja - Friesacher Märchensonntage 2024
DESCRIPTION:Die Biene MajaTheaterstück von Jan Bodinus nach dem Roman von Waldemar BonselsRegie: Christian Krall; Musik: Matthias Ortner \nInhaltsangabe:In einem unbekannten Land\, vor gar nicht allzu langer Zeit …Im Bienenstock am Waldrand herrscht freudige Aufregung\, es ist Schlüpfzeit! Unter den kleinen Bienchen ist auch die fröhliche\, neugierige Maja\, die es kaum erwarten kann\, die Welt zu entdecken. Rasch findet sie Freunde\, mit denen sie eine Menge Spaß hat und lustige\, aber auch spannende Abenteuer erlebt\, denn die Klatschmohnwiese hat nicht nur nette Bewohner. \nTicketpreise:\n16\,00 € (Sitzplatz Kategorie 1) / 13\,00 € (Sitzplatz Kategorie 2) / 10\,00 € (Sitzplatz Kategorie 3)\, 16\,00 € (Sitzplatz Kategorie 1) / 13\,00 € (Sitzplatz Kategorie 2) / 10\,00 € (Sitzplatz Kategorie 3) / 10\,00 € (Sitzplatz Kategorie 3) \nKartenbestellung für Sun\, 18.08.2024\, 15:00\nKartenbestellung für Sun\, 18.08.2024\, 18:00
URL:https://kultur-mittelkaernten.at/event/die-biene-maja-friesacher-mrchensonntage-2024/2024-08-18/1/
ATTACH;FMTTYPE=image/jpeg:https://kultur-mittelkaernten.at/wp-content/uploads/2024/03/biene-maja-friesach-2024-tickets-m.jpg
END:VEVENT
BEGIN:VEVENT
DTSTART;TZID=Europe/Berlin:20240818T180000
DTEND;TZID=Europe/Berlin:20240818T200000
DTSTAMP:20260421T162708
CREATED:20240819T011503Z
LAST-MODIFIED:20240819T011503Z
UID:10000268-1724004000-1724011200@kultur-mittelkaernten.at
SUMMARY:Die Biene Maja - Friesacher Märchensonntage 2024
DESCRIPTION:Die Biene MajaTheaterstück von Jan Bodinus nach dem Roman von Waldemar BonselsRegie: Christian Krall; Musik: Matthias Ortner \nInhaltsangabe:In einem unbekannten Land\, vor gar nicht allzu langer Zeit …Im Bienenstock am Waldrand herrscht freudige Aufregung\, es ist Schlüpfzeit! Unter den kleinen Bienchen ist auch die fröhliche\, neugierige Maja\, die es kaum erwarten kann\, die Welt zu entdecken. Rasch findet sie Freunde\, mit denen sie eine Menge Spaß hat und lustige\, aber auch spannende Abenteuer erlebt\, denn die Klatschmohnwiese hat nicht nur nette Bewohner. \nTicketpreise:\n16\,00 € (Sitzplatz Kategorie 1) / 13\,00 € (Sitzplatz Kategorie 2) / 10\,00 € (Sitzplatz Kategorie 3)\, 16\,00 € (Sitzplatz Kategorie 1) / 13\,00 € (Sitzplatz Kategorie 2) / 10\,00 € (Sitzplatz Kategorie 3) / 10\,00 € (Sitzplatz Kategorie 3) \nKartenbestellung für Sun\, 18.08.2024\, 15:00\nKartenbestellung für Sun\, 18.08.2024\, 18:00
URL:https://kultur-mittelkaernten.at/event/die-biene-maja-friesacher-mrchensonntage-2024/2024-08-18/2/
ATTACH;FMTTYPE=image/jpeg:https://kultur-mittelkaernten.at/wp-content/uploads/2024/03/biene-maja-friesach-2024-tickets-m.jpg
END:VEVENT
END:VCALENDAR