BEGIN:VCALENDAR
VERSION:2.0
PRODID:-//Kultur Mittelkärnten - ECPv6.0.13.1//NONSGML v1.0//EN
CALSCALE:GREGORIAN
METHOD:PUBLISH
X-ORIGINAL-URL:https://kultur-mittelkaernten.at
X-WR-CALDESC:Veranstaltungen für Kultur Mittelkärnten
REFRESH-INTERVAL;VALUE=DURATION:PT1H
X-Robots-Tag:noindex
X-PUBLISHED-TTL:PT1H
BEGIN:VTIMEZONE
TZID:Europe/Berlin
BEGIN:DAYLIGHT
TZOFFSETFROM:+0100
TZOFFSETTO:+0200
TZNAME:CEST
DTSTART:20240331T010000
END:DAYLIGHT
BEGIN:STANDARD
TZOFFSETFROM:+0200
TZOFFSETTO:+0100
TZNAME:CET
DTSTART:20241027T010000
END:STANDARD
END:VTIMEZONE
BEGIN:VEVENT
DTSTART;TZID=Europe/Berlin:20241226T150000
DTEND;TZID=Europe/Berlin:20241226T170000
DTSTAMP:20260421T202832
CREATED:20241227T001001Z
LAST-MODIFIED:20241227T001002Z
UID:10000353-1735225200-1735232400@kultur-mittelkaernten.at
SUMMARY:Friesacher Weihnachtsmärchen 2024
DESCRIPTION:Die kleine Hexe ist mit ihren 127 Jahren noch viel zu jung\, um in der Walpurgisnacht mittanzen zu dürfen\, setzt sich aber – trotz aller Warnungen ihres klugen Raben Abraxas – einfach auf ihren Besen und reitet heimlich auf den Blocksberg. Prompt wird sie ausgerechnet von Ihrer Muhme\, der alten Hexe Rumpumpel erwischt. Zur Strafe nimmt ihr der Hexenrat ihren Besen weg und ermahnt sie\, bis zur nächsten Walpurgisnacht\, eine „gute Hexe“ zu werden\, um mittanzen zu dürfen. Natürlich setzt die kleine Hexe alles daran\, dieses Ziel zu erreichen und übt mit ihrem Zauberbuch und der Hilfe von Abraxas was das Zeug hält. Dabei erleben sie so manche lustige und spannende Abenteuer\, aber wird der Hexenrat zufrieden sein?Und was bitte ist überhaupt eine „richtig gute Hexe“? \nZauberhaftes Kindertheater vom Feinsten mit Spaß\, Spannung und Tanz für alle Theaterfreunde ab 4 Jahre in gewohnt flotter Inszenierung von Regisseur Christian Krall mit Musik von Mathias Ortner und Choreografievon Chiara Pichorner. \nTermine:– Samstag\, 14. Dezember um 18.00 Uhr\, Premiere– Sonntag\, 15. Dezember um 18.00 Uhr– Samstag\, 21. Dezember um 18.00 Uhr– Sonntag\, 22. Dezember um 18.00 Uhr– Donnerstag\, 26. Dezember um 15.00 Uhr– Donnerstag\, 26. Dezember um 18.00 Uhr\, Derniere \nTicketpreise:\n16\,00 € (Sitzplatz Kategorie 1) / 13\,00 € (Sitzplatz Kategorie 2) / 10\,00 € (Sitzplatz Kategorie 3)\, 16\,00 € (Sitzplatz Kategorie 1) / 13\,00 € (Sitzplatz Kategorie 2) / 10\,00 € (Sitzplatz Kategorie 3) / 13\,00 € (Sitzplatz Kategorie 2) / 10\,00 € (Sitzplatz Kategorie 3) \nKartenbestellung für Thu\, 26.12.2024\, 15:00\nKartenbestellung für Thu\, 26.12.2024\, 18:00
URL:https://kultur-mittelkaernten.at/event/friesacher-weihnachtsmrchen-2024/2024-12-26/1/
ATTACH;FMTTYPE=image/jpeg:https://kultur-mittelkaernten.at/wp-content/uploads/2024/11/friesacher-weihnachtsmaerchen-2024-m.jpg
END:VEVENT
BEGIN:VEVENT
DTSTART;TZID=Europe/Berlin:20241226T180000
DTEND;TZID=Europe/Berlin:20241226T200000
DTSTAMP:20260421T202832
CREATED:20241227T001001Z
LAST-MODIFIED:20241227T001002Z
UID:10000351-1735236000-1735243200@kultur-mittelkaernten.at
SUMMARY:Friesacher Weihnachtsmärchen 2024
DESCRIPTION:Die kleine Hexe ist mit ihren 127 Jahren noch viel zu jung\, um in der Walpurgisnacht mittanzen zu dürfen\, setzt sich aber – trotz aller Warnungen ihres klugen Raben Abraxas – einfach auf ihren Besen und reitet heimlich auf den Blocksberg. Prompt wird sie ausgerechnet von Ihrer Muhme\, der alten Hexe Rumpumpel erwischt. Zur Strafe nimmt ihr der Hexenrat ihren Besen weg und ermahnt sie\, bis zur nächsten Walpurgisnacht\, eine „gute Hexe“ zu werden\, um mittanzen zu dürfen. Natürlich setzt die kleine Hexe alles daran\, dieses Ziel zu erreichen und übt mit ihrem Zauberbuch und der Hilfe von Abraxas was das Zeug hält. Dabei erleben sie so manche lustige und spannende Abenteuer\, aber wird der Hexenrat zufrieden sein?Und was bitte ist überhaupt eine „richtig gute Hexe“? \nZauberhaftes Kindertheater vom Feinsten mit Spaß\, Spannung und Tanz für alle Theaterfreunde ab 4 Jahre in gewohnt flotter Inszenierung von Regisseur Christian Krall mit Musik von Mathias Ortner und Choreografievon Chiara Pichorner. \nTermine:– Samstag\, 14. Dezember um 18.00 Uhr\, Premiere– Sonntag\, 15. Dezember um 18.00 Uhr– Samstag\, 21. Dezember um 18.00 Uhr– Sonntag\, 22. Dezember um 18.00 Uhr– Donnerstag\, 26. Dezember um 15.00 Uhr– Donnerstag\, 26. Dezember um 18.00 Uhr\, Derniere \nTicketpreise:\n16\,00 € (Sitzplatz Kategorie 1) / 13\,00 € (Sitzplatz Kategorie 2) / 10\,00 € (Sitzplatz Kategorie 3)\, 16\,00 € (Sitzplatz Kategorie 1) / 13\,00 € (Sitzplatz Kategorie 2) / 10\,00 € (Sitzplatz Kategorie 3) / 13\,00 € (Sitzplatz Kategorie 2) / 10\,00 € (Sitzplatz Kategorie 3) \nKartenbestellung für Thu\, 26.12.2024\, 15:00\nKartenbestellung für Thu\, 26.12.2024\, 18:00
URL:https://kultur-mittelkaernten.at/event/friesacher-weihnachtsmrchen-2024/2024-12-26/2/
ATTACH;FMTTYPE=image/jpeg:https://kultur-mittelkaernten.at/wp-content/uploads/2024/11/friesacher-weihnachtsmaerchen-2024-m.jpg
END:VEVENT
END:VCALENDAR