BEGIN:VCALENDAR
VERSION:2.0
PRODID:-//Kultur Mittelkärnten - ECPv6.0.13.1//NONSGML v1.0//EN
CALSCALE:GREGORIAN
METHOD:PUBLISH
X-WR-CALNAME:Kultur Mittelkärnten
X-ORIGINAL-URL:https://kultur-mittelkaernten.at
X-WR-CALDESC:Veranstaltungen für Kultur Mittelkärnten
REFRESH-INTERVAL;VALUE=DURATION:PT1H
X-Robots-Tag:noindex
X-PUBLISHED-TTL:PT1H
BEGIN:VTIMEZONE
TZID:Europe/Berlin
BEGIN:DAYLIGHT
TZOFFSETFROM:+0100
TZOFFSETTO:+0200
TZNAME:CEST
DTSTART:20250330T010000
END:DAYLIGHT
BEGIN:STANDARD
TZOFFSETFROM:+0200
TZOFFSETTO:+0100
TZNAME:CET
DTSTART:20251026T010000
END:STANDARD
END:VTIMEZONE
BEGIN:VEVENT
DTSTART;TZID=Europe/Berlin:20250816T203000
DTEND;TZID=Europe/Berlin:20250816T223000
DTSTAMP:20260422T000852
CREATED:20250817T011502Z
LAST-MODIFIED:20250817T011503Z
UID:10000376-1755376200-1755383400@kultur-mittelkaernten.at
SUMMARY:Im weißen Rößl - Friesacher Burghofspiele 2025
DESCRIPTION:Wer landet in welchem Bett? Im weißen Rößl herrscht Hochbetrieb – kein Bett mehr frei\, dafür umso mehr Liebeschaos! \nOberkellner Leopold schmachtet die Wirtin Josepha an\, doch die verguckt sich lieber in Dr. Siedler\, der sich jedoch geschickt an Gieseckes Tochter Ottilie heranmacht. Der smarte Anwalt soll eigentlich einen Rechtsstreit zwischen Giesecke und Sülzheimer schlichten\, gibt aber vor\, Ottilie mit Sülzheimer Junior verkuppeln zu wollen – während dieser längst für das kecke Klärchen schwärmt. Missverständnisse\, Wortgefechte und amouröse Verwirrungen sorgen für ein turbulentes Spektakel\, bevor schließlich alle Herzen ihren Platz finden – in den richtigen Betten oder zumindest im Beuschel! \nTicketpreise:\n44\,50 € (Loge) / 34\,50 € (Parkett) / 29\,50 € (1. Rang) / 21\,00 € (2. Rang) \nKartenbestellung für Sa\, 16.08.2025\, 20:30
URL:https://kultur-mittelkaernten.at/event/im-weien-rl-friesacher-burghofspiele-2025/2025-08-16/
ATTACH;FMTTYPE=image/jpeg:https://kultur-mittelkaernten.at/wp-content/uploads/2025/03/Im_weissen_Roessl_-_Friesacher_Burghofspiele_2025_tickets_2025_m.jpg
END:VEVENT
END:VCALENDAR