BEGIN:VCALENDAR
VERSION:2.0
PRODID:-//Kultur Mittelkärnten - ECPv6.0.13.1//NONSGML v1.0//EN
CALSCALE:GREGORIAN
METHOD:PUBLISH
X-WR-CALNAME:Kultur Mittelkärnten
X-ORIGINAL-URL:https://kultur-mittelkaernten.at
X-WR-CALDESC:Veranstaltungen für Kultur Mittelkärnten
REFRESH-INTERVAL;VALUE=DURATION:PT1H
X-Robots-Tag:noindex
X-PUBLISHED-TTL:PT1H
BEGIN:VTIMEZONE
TZID:Europe/Berlin
BEGIN:DAYLIGHT
TZOFFSETFROM:+0100
TZOFFSETTO:+0200
TZNAME:CEST
DTSTART:20250330T010000
END:DAYLIGHT
BEGIN:STANDARD
TZOFFSETFROM:+0200
TZOFFSETTO:+0100
TZNAME:CET
DTSTART:20251026T010000
END:STANDARD
END:VTIMEZONE
BEGIN:VEVENT
DTSTART;TZID=Europe/Berlin:20250817T150000
DTEND;TZID=Europe/Berlin:20250817T170000
DTSTAMP:20260422T000820
CREATED:20250818T011002Z
LAST-MODIFIED:20250818T011003Z
UID:10000383-1755442800-1755450000@kultur-mittelkaernten.at
SUMMARY:Oh\, wie schön ist Panama – Friesacher Märchensonntage 2025
DESCRIPTION:Tiger und Bär leben zufrieden in ihrem Häuschen am Fluss bis eines Tages eine Holzkiste ans Ufer gespült wird. Außen steht „Panama“ drauf – innen duftet sie herrlich nach Bananen.Schnell sind sich die Freunde einig – da müssen sie hin – und los geht´s\, doch wie kommt man nach Panama?Unterwegs treffen sie so manche komischen Gesellen\, von denen sie die verschiedensten Wegbeschreibungen bekommen und bald erkennen die beiden\, dass man mit einem Freund an der Seite alles schaffen kann. Aber werden sie am Ende auch Panama finden?Könnt ihr schon die Bananen riechen? – Dann kommt mit auf diese lustige\, abenteuerliche Reise für kleine und große Weltenbummler ab 3 Jahren\, schwungvoll inszeniert von Regisseur Christian Krall mit tollen Choreografien von Chiara Pichorner zur coolen Musik von Mathias Ortner. \nTicketpreise:\n16\,00 € (Sitzplatz Kategorie 1) / 13\,00 € (Sitzplatz Kategorie 2) / 10\,00 € (Sitzplatz Kategorie 3) \nKartenbestellung für So\, 17.08.2025\, 15:00\nKartenbestellung für So\, 17.08.2025\, 18:00
URL:https://kultur-mittelkaernten.at/event/oh-wie-schn-ist-panama-friesacher-mrchensonntage-2025/2025-08-17/1/
ATTACH;FMTTYPE=image/jpeg:https://kultur-mittelkaernten.at/wp-content/uploads/2025/03/oh-wie-schoen-ist-panama-friesacher-maerchensonntage-2025-m-0327.jpg
END:VEVENT
BEGIN:VEVENT
DTSTART;TZID=Europe/Berlin:20250817T180000
DTEND;TZID=Europe/Berlin:20250817T200000
DTSTAMP:20260422T000820
CREATED:20250818T011002Z
LAST-MODIFIED:20250818T011003Z
UID:10000384-1755453600-1755460800@kultur-mittelkaernten.at
SUMMARY:Oh\, wie schön ist Panama – Friesacher Märchensonntage 2025
DESCRIPTION:Tiger und Bär leben zufrieden in ihrem Häuschen am Fluss bis eines Tages eine Holzkiste ans Ufer gespült wird. Außen steht „Panama“ drauf – innen duftet sie herrlich nach Bananen.Schnell sind sich die Freunde einig – da müssen sie hin – und los geht´s\, doch wie kommt man nach Panama?Unterwegs treffen sie so manche komischen Gesellen\, von denen sie die verschiedensten Wegbeschreibungen bekommen und bald erkennen die beiden\, dass man mit einem Freund an der Seite alles schaffen kann. Aber werden sie am Ende auch Panama finden?Könnt ihr schon die Bananen riechen? – Dann kommt mit auf diese lustige\, abenteuerliche Reise für kleine und große Weltenbummler ab 3 Jahren\, schwungvoll inszeniert von Regisseur Christian Krall mit tollen Choreografien von Chiara Pichorner zur coolen Musik von Mathias Ortner. \nTicketpreise:\n16\,00 € (Sitzplatz Kategorie 1) / 13\,00 € (Sitzplatz Kategorie 2) / 10\,00 € (Sitzplatz Kategorie 3) \nKartenbestellung für So\, 17.08.2025\, 15:00\nKartenbestellung für So\, 17.08.2025\, 18:00
URL:https://kultur-mittelkaernten.at/event/oh-wie-schn-ist-panama-friesacher-mrchensonntage-2025/2025-08-17/2/
ATTACH;FMTTYPE=image/jpeg:https://kultur-mittelkaernten.at/wp-content/uploads/2025/03/oh-wie-schoen-ist-panama-friesacher-maerchensonntage-2025-m-0327.jpg
END:VEVENT
END:VCALENDAR