BEGIN:VCALENDAR
VERSION:2.0
PRODID:-//Kultur Mittelkärnten - ECPv6.0.13.1//NONSGML v1.0//EN
CALSCALE:GREGORIAN
METHOD:PUBLISH
X-ORIGINAL-URL:https://kultur-mittelkaernten.at
X-WR-CALDESC:Veranstaltungen für Kultur Mittelkärnten
REFRESH-INTERVAL;VALUE=DURATION:PT1H
X-Robots-Tag:noindex
X-PUBLISHED-TTL:PT1H
BEGIN:VTIMEZONE
TZID:Europe/Berlin
BEGIN:DAYLIGHT
TZOFFSETFROM:+0100
TZOFFSETTO:+0200
TZNAME:CEST
DTSTART:20230326T010000
END:DAYLIGHT
BEGIN:STANDARD
TZOFFSETFROM:+0200
TZOFFSETTO:+0100
TZNAME:CET
DTSTART:20231029T010000
END:STANDARD
END:VTIMEZONE
BEGIN:VEVENT
DTSTART;TZID=Europe/Berlin:20230801T200000
DTEND;TZID=Europe/Berlin:20230801T220000
DTSTAMP:20260422T035724
CREATED:20230629T001001Z
LAST-MODIFIED:20230629T001002Z
UID:10000157-1690920000-1690927200@kultur-mittelkaernten.at
SUMMARY:Zwielicht
DESCRIPTION:Star Anwalt Martin Vail hat sich weniger der gerechten als vielmehr der eigenen Sache verschrieben. Spektakuläre Prozesse sind sein Lebenselixier – und was könnte spektakulärer sein als die Ermordung des Erzbischofs von Chicago. Der junge und schüchterne Messdiener Aaron Stampler wird angeklagt\, den Geistlichen ermordet zu haben. Alle Beweise deuten auf ihn. Vail kämpft mit seinem Team gegen die Macht der Vorverurteilung\, korrupte Amtsträger und seine ehemalige Geliebte\, Staatsanwältin Janet Venable. Der Fall scheint aussichtslos\, doch der Angeklagte beschwört\, es war noch eine dritte Person im Raum… \nTicketpreise:\n29\,50 € (Freie Sitzplatzwahl) \nKartenbestellung für Di\, 01.08.2023\, 20:00
URL:https://kultur-mittelkaernten.at/event/zwielicht/2023-08-01/
ATTACH;FMTTYPE=image/jpeg:https://kultur-mittelkaernten.at/wp-content/uploads/2023/06/Zwielicht_tickets_2023_m.jpg
END:VEVENT
BEGIN:VEVENT
DTSTART;TZID=Europe/Berlin:20230814T203000
DTEND;TZID=Europe/Berlin:20230814T223000
DTSTAMP:20260422T035724
CREATED:20230811T211001Z
LAST-MODIFIED:20230811T211001Z
UID:10000168-1692045000-1692052200@kultur-mittelkaernten.at
SUMMARY:Heiße Nächte in Chicago! - Musikalische Sommerkomödie
DESCRIPTION:Ticketpreise:\n25\,00 € (Sitzplatz Kategorie 2) \nKartenbestellung für Mo\, 14.08.2023\, 20:30
URL:https://kultur-mittelkaernten.at/event/heie-nchte-in-chicago-musikalische-sommerkomdie/2023-08-14/
ATTACH;FMTTYPE=image/jpeg:https://kultur-mittelkaernten.at/wp-content/uploads/2023/04/Heisse_Naechte_in_Chicago_-_Musikalische_Sommerkomoedie_-_2023_-_m.jpg
END:VEVENT
BEGIN:VEVENT
DTSTART;TZID=Europe/Berlin:20230819T203000
DTEND;TZID=Europe/Berlin:20230819T223000
DTSTAMP:20260422T035724
CREATED:20230820T021001Z
LAST-MODIFIED:20230820T021001Z
UID:10000023-1692477000-1692484200@kultur-mittelkaernten.at
SUMMARY:Mord im Orientexpress - Friesacher Burghofspiele 2023
DESCRIPTION:Kriminalkomödie von Agatha ChristieBearbeitung: Ken Ludwig; Regie: Michael Eybl \nDer berühmte Detektiv Hercule Poirot befindet sich mit Menschen unterschiedlichster Herkunft und Nationalität im Orientexpress auf der Reise von Istanbul nach London. Als der Zug auf der Fahrt durch Serbien wegen Schneeverwehungen halten muss und gerade jetzt ein Mord passiert\, ist Poirot in seinem Element. Der eitle\, etwas schrullige Privatdetektiv nimmt seine Ermittlungen auf und eine amüsante\, mit überraschenden Wendungen versehene Mörderjagd beginnt … \nTicketpreise:\n42\,50 € (Loge) / 32\,50 € (Parkett) / 28\,50 € (1. Rang) / 20\,00 € (2. Rang) \nKartenbestellung für Sa\, 19.08.2023\, 20:30
URL:https://kultur-mittelkaernten.at/event/mord-im-orientexpress-friesacher-burghofspiele-2023/2023-08-19/
ATTACH;FMTTYPE=image/jpeg:https://kultur-mittelkaernten.at/wp-content/uploads/2023/03/mord-im-orientexpress-friesach-tickets-2023-m.jpg
END:VEVENT
BEGIN:VEVENT
DTSTART;TZID=Europe/Berlin:20230820T150000
DTEND;TZID=Europe/Berlin:20230820T170000
DTSTAMP:20260422T035724
CREATED:20230821T011501Z
LAST-MODIFIED:20230821T011501Z
UID:10000154-1692543600-1692550800@kultur-mittelkaernten.at
SUMMARY:Doktor Dolittle und seine Tiere - Friesacher Märchensonntage 2023
DESCRIPTION:Heuer zum ersten Mal auch in Gebärdensprache am Sonntag\, 30. Juli 2023 \nMäuse im Wartezimmer\, was für eine Aufregung!\nDr. Dolittle ist eigentlich ein Arzt für Menschen\, doch sein Herz schlägt für die Tiere\, denen er hilft\, wo er nur kann. Seine uralte Papageiendame Polynesia gibt ihm Unterricht in verschiedenen Tiersprachen und so erfährt Dr. Dolittle\, dass der gemeine Professor Follansbee in seinem Labor ein geheimnisvolles Tier gefangen hält … Als plötzlich auch Polynesia verschwindet\, machen sich Dr. Dolittle und seine Freunde\, der Hund Jib und das Schwein Göb Göb\, gemeinsam mit der zauberhaften Rauchfangkehrerin Mathilda sofort auf die Suche nach ihr und erleben dabei lustige und spannende Abenteuer.  \nKindertheater vom Feinsten mit Spaß\, Spannung und so manchem Ohrwurm für alle Theaterfreunde ab drei Jahren in gewohnt flotter Inszenierung von Regisseur Christian Krall mit Musik von Mathias Ortner. \nTicketpreise:\n12\,00 € (Sitzplatz Kategorie 1) / 9\,00 € (Sitzplatz Kategorie 2) / 6\,00 € (Sitzplatz Kategorie 3) \nKartenbestellung für So\, 20.08.2023\, 15:00\nKartenbestellung für So\, 20.08.2023\, 18:00
URL:https://kultur-mittelkaernten.at/event/doktor-dolittle-und-seine-tiere-friesacher-mrchensonntage-2023/2023-08-20/1/
ATTACH;FMTTYPE=image/jpeg:https://kultur-mittelkaernten.at/wp-content/uploads/2023/05/dr-doolittle-friesach-tickets-2023-m.jpg
END:VEVENT
BEGIN:VEVENT
DTSTART;TZID=Europe/Berlin:20230820T180000
DTEND;TZID=Europe/Berlin:20230820T200000
DTSTAMP:20260422T035724
CREATED:20230821T011501Z
LAST-MODIFIED:20230821T011501Z
UID:10000155-1692554400-1692561600@kultur-mittelkaernten.at
SUMMARY:Doktor Dolittle und seine Tiere - Friesacher Märchensonntage 2023
DESCRIPTION:Heuer zum ersten Mal auch in Gebärdensprache am Sonntag\, 30. Juli 2023 \nMäuse im Wartezimmer\, was für eine Aufregung!\nDr. Dolittle ist eigentlich ein Arzt für Menschen\, doch sein Herz schlägt für die Tiere\, denen er hilft\, wo er nur kann. Seine uralte Papageiendame Polynesia gibt ihm Unterricht in verschiedenen Tiersprachen und so erfährt Dr. Dolittle\, dass der gemeine Professor Follansbee in seinem Labor ein geheimnisvolles Tier gefangen hält … Als plötzlich auch Polynesia verschwindet\, machen sich Dr. Dolittle und seine Freunde\, der Hund Jib und das Schwein Göb Göb\, gemeinsam mit der zauberhaften Rauchfangkehrerin Mathilda sofort auf die Suche nach ihr und erleben dabei lustige und spannende Abenteuer.  \nKindertheater vom Feinsten mit Spaß\, Spannung und so manchem Ohrwurm für alle Theaterfreunde ab drei Jahren in gewohnt flotter Inszenierung von Regisseur Christian Krall mit Musik von Mathias Ortner. \nTicketpreise:\n12\,00 € (Sitzplatz Kategorie 1) / 9\,00 € (Sitzplatz Kategorie 2) / 6\,00 € (Sitzplatz Kategorie 3) \nKartenbestellung für So\, 20.08.2023\, 15:00\nKartenbestellung für So\, 20.08.2023\, 18:00
URL:https://kultur-mittelkaernten.at/event/doktor-dolittle-und-seine-tiere-friesacher-mrchensonntage-2023/2023-08-20/2/
ATTACH;FMTTYPE=image/jpeg:https://kultur-mittelkaernten.at/wp-content/uploads/2023/05/dr-doolittle-friesach-tickets-2023-m.jpg
END:VEVENT
END:VCALENDAR