BEGIN:VCALENDAR
VERSION:2.0
PRODID:-//Kultur Mittelkärnten - ECPv6.0.13.1//NONSGML v1.0//EN
CALSCALE:GREGORIAN
METHOD:PUBLISH
X-WR-CALNAME:Kultur Mittelkärnten
X-ORIGINAL-URL:https://kultur-mittelkaernten.at
X-WR-CALDESC:Veranstaltungen für Kultur Mittelkärnten
REFRESH-INTERVAL;VALUE=DURATION:PT1H
X-Robots-Tag:noindex
X-PUBLISHED-TTL:PT1H
BEGIN:VTIMEZONE
TZID:Europe/Berlin
BEGIN:DAYLIGHT
TZOFFSETFROM:+0100
TZOFFSETTO:+0200
TZNAME:CEST
DTSTART:20240331T010000
END:DAYLIGHT
BEGIN:STANDARD
TZOFFSETFROM:+0200
TZOFFSETTO:+0100
TZNAME:CET
DTSTART:20241027T010000
END:STANDARD
END:VTIMEZONE
BEGIN:VEVENT
DTSTART;TZID=Europe/Berlin:20241115T193000
DTEND;TZID=Europe/Berlin:20241115T213000
DTSTAMP:20260421T174153
CREATED:20241113T021502Z
LAST-MODIFIED:20241113T021502Z
UID:10000345-1731699000-1731706200@kultur-mittelkaernten.at
SUMMARY:Ladies Night - Friesacher Theaterherbst
DESCRIPTION:Komödie von Stephen Sinclair und Anthony McCartenDeutsch von Annette und Knut Lehmann; Regie: Christian Krall \nStadtsaal zu Friesach\, Stadtgrabengasse 5 \nDie drei Freunde Lukas\, Florian und Andreas haben mit beträchtlicher Erfolglosigkeit auf eine „bahnbrechende Erfindung“ gesetzt\, wodurch den Jungunternehmern finanziell langsam die Luft ausgeht.Als plötzlich ein erbarmungsloser Geldeintreiber vor der Türe steht\, ist guter Rat teuer. „Mann“ müsste schnell viel Geld verdienen\, so wie diese „Chippendales“\, eine Strippergruppe\, die bei der Damenwelt gerade sehr hoch im Kurs steht. Eine eigenen Männer-StripteaseShow soll – quasi mit einem Hüftschwung – alle Geldsorgen lösen.Die Freunde erinnern allerdings weder optisch an die Starstripper\, noch sind sie sonderlich talentiert.Doch Verstärkung naht … aus dem Kirchenchor und aus dem Rotlichtmilieu … \nFreitag\, 8. November: begleitende Gebärdensprache Vorstellung \nTicketpreise:\n21\,00 € (Sitzplatz Kategorie 3)\, 21\,00 € (Sitzplatz Kategorie 3) / 29\,50 € (Sitzplatz Kategorie 1) / 21\,00 € (Sitzplatz Kategorie 3) \nKartenbestellung für Fri\, 15.11.2024\, 19:30\nKartenbestellung für Sun\, 17.11.2024\, 15:00
URL:https://kultur-mittelkaernten.at/event/ladies-night-friesacher-theaterherbst/2024-11-15/
ATTACH;FMTTYPE=image/jpeg:https://kultur-mittelkaernten.at/wp-content/uploads/2024/09/ladies-night-friesach-tickets-2024-m.jpg
END:VEVENT
BEGIN:VEVENT
DTSTART;TZID=Europe/Berlin:20241117T150000
DTEND;TZID=Europe/Berlin:20241117T170000
DTSTAMP:20260421T174153
CREATED:20241113T021502Z
LAST-MODIFIED:20241113T021502Z
UID:10000346-1731855600-1731862800@kultur-mittelkaernten.at
SUMMARY:Ladies Night - Friesacher Theaterherbst
DESCRIPTION:Komödie von Stephen Sinclair und Anthony McCartenDeutsch von Annette und Knut Lehmann; Regie: Christian Krall \nStadtsaal zu Friesach\, Stadtgrabengasse 5 \nDie drei Freunde Lukas\, Florian und Andreas haben mit beträchtlicher Erfolglosigkeit auf eine „bahnbrechende Erfindung“ gesetzt\, wodurch den Jungunternehmern finanziell langsam die Luft ausgeht.Als plötzlich ein erbarmungsloser Geldeintreiber vor der Türe steht\, ist guter Rat teuer. „Mann“ müsste schnell viel Geld verdienen\, so wie diese „Chippendales“\, eine Strippergruppe\, die bei der Damenwelt gerade sehr hoch im Kurs steht. Eine eigenen Männer-StripteaseShow soll – quasi mit einem Hüftschwung – alle Geldsorgen lösen.Die Freunde erinnern allerdings weder optisch an die Starstripper\, noch sind sie sonderlich talentiert.Doch Verstärkung naht … aus dem Kirchenchor und aus dem Rotlichtmilieu … \nFreitag\, 8. November: begleitende Gebärdensprache Vorstellung \nTicketpreise:\n21\,00 € (Sitzplatz Kategorie 3)\, 21\,00 € (Sitzplatz Kategorie 3) / 29\,50 € (Sitzplatz Kategorie 1) / 21\,00 € (Sitzplatz Kategorie 3) \nKartenbestellung für Fri\, 15.11.2024\, 19:30\nKartenbestellung für Sun\, 17.11.2024\, 15:00
URL:https://kultur-mittelkaernten.at/event/ladies-night-friesacher-theaterherbst/2024-11-17/
ATTACH;FMTTYPE=image/jpeg:https://kultur-mittelkaernten.at/wp-content/uploads/2024/09/ladies-night-friesach-tickets-2024-m.jpg
END:VEVENT
END:VCALENDAR